BEGIN:VCALENDAR
VERSION:2.0
PRODID:-//gcpc.org//NONSGML kigkonsult.se iCalcreator 2.30.10//
CALSCALE:GREGORIAN
METHOD:PUBLISH
UID:62445e8c-3edf-4f50-bca9-9a05c445dd5f
X-WR-CALDESC:Communion is celebrated on the first Sunday of every month at 
 both worship services. The 8:50 service is by intinction\, and at the 11:0
 5\, the elements are passed.
X-WR-RELCALID:e52042b98371da5ca4e5b9b3e855ee11
X-WR-TIMEZONE:America/Chicago
BEGIN:VTIMEZONE
TZID:America/Chicago
BEGIN:STANDARD
TZNAME:CST
DTSTART:20251102T020000
TZOFFSETFROM:-0500
TZOFFSETTO:-0600
RDATE:20261101T020000
RDATE:20271107T020000
END:STANDARD
BEGIN:DAYLIGHT
TZNAME:CDT
DTSTART:20260308T020000
TZOFFSETFROM:-0600
TZOFFSETTO:-0500
RDATE:20270314T020000
END:DAYLIGHT
END:VTIMEZONE
BEGIN:VEVENT
UID:8f89a358-0e5a-4033-a8fc-06e8752b6887
DTSTAMP:20260422T121230Z
DESCRIPTION:Communion is celebrated on the first Sunday of every month at b
 oth worship services. The 8:50 service is by intinction\, and at the 11:05
 \, the elements are passed.
DTSTART;TZID=America/Chicago:20260705T000000
DTEND;TZID=America/Chicago:20260705T235900
LOCATION:
SUMMARY:COMMUNION SUNDAY
END:VEVENT
END:VCALENDAR
