BEGIN:VCALENDAR
VERSION:2.0
PRODID:-//gcpc.org//NONSGML kigkonsult.se iCalcreator 2.30.10//
CALSCALE:GREGORIAN
METHOD:PUBLISH
UID:d0cad986-0925-4cd4-b94d-2f6a2edef786
X-WR-CALDESC:For information about the group\, please contact Tom\, 913-530
 -0981.
X-WR-RELCALID:25b3f79fcdd89d866e6f7cf10710cf42
X-WR-TIMEZONE:America/Chicago
BEGIN:VTIMEZONE
TZID:America/Chicago
BEGIN:STANDARD
TZNAME:CST
DTSTART:20251102T020000
TZOFFSETFROM:-0500
TZOFFSETTO:-0600
RDATE:20261101T020000
RDATE:20271107T020000
END:STANDARD
BEGIN:DAYLIGHT
TZNAME:CDT
DTSTART:20260308T020000
TZOFFSETFROM:-0600
TZOFFSETTO:-0500
RDATE:20270314T020000
END:DAYLIGHT
END:VTIMEZONE
BEGIN:VEVENT
UID:e91f347c-6fb5-42b1-84a7-3e1b7492c131
DTSTAMP:20260420T172621Z
DESCRIPTION:For information about the group\, please contact Tom\, 913-530-
 0981.
DTSTART;TZID=America/Chicago:20260720T120000
DTEND;TZID=America/Chicago:20260720T130000
LOCATION:In-Person
SUMMARY:College Nooners AA
END:VEVENT
END:VCALENDAR
