BEGIN:VCALENDAR
VERSION:2.0
PRODID:-//gcpc.org//NONSGML kigkonsult.se iCalcreator 2.30.10//
CALSCALE:GREGORIAN
METHOD:PUBLISH
UID:faad39b7-1141-47dc-bde5-34b7ffd754c6
X-WR-CALDESC:Communion is celebrated on the first Sunday of every month at 
 both worship services. The 8:50 service is by intinction\, and at the 11:0
 5\, the elements are passed.
X-WR-RELCALID:c7f5271a6b3871208c944817b6b6d2ba
X-WR-TIMEZONE:America/Chicago
BEGIN:VTIMEZONE
TZID:America/Chicago
BEGIN:STANDARD
TZNAME:CST
DTSTART:20251102T020000
TZOFFSETFROM:-0500
TZOFFSETTO:-0600
RDATE:20261101T020000
RDATE:20271107T020000
END:STANDARD
BEGIN:DAYLIGHT
TZNAME:CDT
DTSTART:20260308T020000
TZOFFSETFROM:-0600
TZOFFSETTO:-0500
RDATE:20270314T020000
END:DAYLIGHT
END:VTIMEZONE
BEGIN:VEVENT
UID:8e23df15-2e5b-40c1-920f-dba1ad66620b
DTSTAMP:20260419T123828Z
DESCRIPTION:Communion is celebrated on the first Sunday of every month at b
 oth worship services. The 8:50 service is by intinction\, and at the 11:05
 \, the elements are passed.
DTSTART;TZID=America/Chicago:20260802T000000
DTEND;TZID=America/Chicago:20260802T235900
LOCATION:
SUMMARY:COMMUNION SUNDAY
END:VEVENT
END:VCALENDAR
