BEGIN:VCALENDAR
VERSION:2.0
PRODID:-//gcpc.org//NONSGML kigkonsult.se iCalcreator 2.30.10//
CALSCALE:GREGORIAN
METHOD:PUBLISH
UID:ea9d2cae-da32-48bf-96e9-7568adfb38d3
X-WR-CALDESC:
X-WR-RELCALID:daf9d49d1550387ba336a838ad1c806c
X-WR-TIMEZONE:America/Chicago
BEGIN:VTIMEZONE
TZID:America/Chicago
BEGIN:STANDARD
TZNAME:CST
DTSTART:20251102T020000
TZOFFSETFROM:-0500
TZOFFSETTO:-0600
RDATE:20261101T020000
RDATE:20271107T020000
END:STANDARD
BEGIN:DAYLIGHT
TZNAME:CDT
DTSTART:20260308T020000
TZOFFSETFROM:-0600
TZOFFSETTO:-0500
RDATE:20270314T020000
END:DAYLIGHT
END:VTIMEZONE
BEGIN:VEVENT
UID:6fbf819c-af59-42b3-99dd-1bb51bf7ae17
DTSTAMP:20260420T071525Z
DESCRIPTION:
DTSTART;TZID=America/Chicago:20260810T173000
DTEND;TZID=America/Chicago:20260810T183000
LOCATION:ONLINE
SUMMARY:Operations Committee - ONLINE
END:VEVENT
END:VCALENDAR
