BEGIN:VCALENDAR
VERSION:2.0
PRODID:-//gcpc.org//NONSGML kigkonsult.se iCalcreator 2.30.10//
CALSCALE:GREGORIAN
METHOD:PUBLISH
UID:87feaaf9-4f4a-46f8-b2ce-9ae51f8242ff
X-WR-CALDESC:Meets in Room 21. Contact Pat Collins\, p5c_70@yahoo.com\, for
  more information.
X-WR-RELCALID:22c109ad4b2a4ba2d291ca0400d8bfef
X-WR-TIMEZONE:America/Chicago
BEGIN:VTIMEZONE
TZID:America/Chicago
BEGIN:STANDARD
TZNAME:CST
DTSTART:20251102T020000
TZOFFSETFROM:-0500
TZOFFSETTO:-0600
RDATE:20261101T020000
RDATE:20271107T020000
END:STANDARD
BEGIN:DAYLIGHT
TZNAME:CDT
DTSTART:20260308T020000
TZOFFSETFROM:-0600
TZOFFSETTO:-0500
RDATE:20270314T020000
END:DAYLIGHT
END:VTIMEZONE
BEGIN:VEVENT
UID:b700b41b-6bec-481c-9f31-c010b55ff717
DTSTAMP:20260420T052333Z
DESCRIPTION:Meets in Room 21. Contact Pat Collins\, p5c_70@yahoo.com\, for 
 more information.
DTSTART;TZID=America/Chicago:20260811T130000
DTEND;TZID=America/Chicago:20260811T143000
LOCATION:Room 21
SUMMARY:Crafters (Daytime)
END:VEVENT
END:VCALENDAR
