BEGIN:VCALENDAR
VERSION:2.0
PRODID:-//gcpc.org//NONSGML kigkonsult.se iCalcreator 2.30.10//
CALSCALE:GREGORIAN
METHOD:PUBLISH
UID:6e8a2135-07ab-48e1-a4c4-e831860b12e4
X-WR-CALDESC:Uplift is a homeless outreach program. They are an all volunte
 er group founded in 1990\, not funded by federal\, state or local governme
 nt grants or sponsored by other organizations and/or agencies. Uplift  sur
 vives by donations and through a personal commitment to feed and clothe th
 e area’s homeless\, by individuals\, churches and organizations in the Kan
 sas City Metro Area.\n\nGrace Covenant prepares lunches for Uplift on the 
 4th Saturday of every month.
X-WR-RELCALID:8e10430e716b669c8e38b20e1c91810c
X-WR-TIMEZONE:America/Chicago
BEGIN:VTIMEZONE
TZID:America/Chicago
BEGIN:STANDARD
TZNAME:CST
DTSTART:20251102T020000
TZOFFSETFROM:-0500
TZOFFSETTO:-0600
RDATE:20261101T020000
RDATE:20271107T020000
END:STANDARD
BEGIN:DAYLIGHT
TZNAME:CDT
DTSTART:20260308T020000
TZOFFSETFROM:-0600
TZOFFSETTO:-0500
RDATE:20270314T020000
END:DAYLIGHT
END:VTIMEZONE
BEGIN:VEVENT
UID:4f1ddafb-e3dd-4427-8afa-700cb7ab0637
DTSTAMP:20260419T153959Z
DESCRIPTION:Uplift is a homeless outreach program. They are an all voluntee
 r group founded in 1990\, not funded by federal\, state or local governmen
 t grants or sponsored by other organizations and/or agencies. Uplift  surv
 ives by donations and through a personal commitment to feed and clothe the
  area’s homeless\, by individuals\, churches and organizations in the Kans
 as City Metro Area.\n\nGrace Covenant prepares lunches for Uplift on the 4
 th Saturday of every month.
DTSTART;TZID=America/Chicago:20260822T103000
DTEND;TZID=America/Chicago:20260822T120000
LOCATION:Kitchen
SUMMARY:Uplift
END:VEVENT
END:VCALENDAR
