BEGIN:VCALENDAR
VERSION:2.0
PRODID:-//gcpc.org//NONSGML kigkonsult.se iCalcreator 2.30.10//
CALSCALE:GREGORIAN
METHOD:PUBLISH
UID:190f01e6-081f-47db-ba9f-7e33c9c97bd0
X-WR-CALDESC:
X-WR-RELCALID:53099473eea59ef384df64c31b53da5e
X-WR-TIMEZONE:America/Chicago
BEGIN:VTIMEZONE
TZID:America/Chicago
BEGIN:STANDARD
TZNAME:CST
DTSTART:20251102T020000
TZOFFSETFROM:-0500
TZOFFSETTO:-0600
RDATE:20261101T020000
RDATE:20271107T020000
END:STANDARD
BEGIN:DAYLIGHT
TZNAME:CDT
DTSTART:20260308T020000
TZOFFSETFROM:-0600
TZOFFSETTO:-0500
RDATE:20270314T020000
END:DAYLIGHT
END:VTIMEZONE
BEGIN:VEVENT
UID:c00ba775-5ff8-42ff-abeb-cdbeb588b459
DTSTAMP:20260419T203611Z
DESCRIPTION:
DTSTART;TZID=America/Chicago:20260824T173000
DTEND;TZID=America/Chicago:20260824T184500
LOCATION:ONLINE
SUMMARY:Welcoming Team- ONLINE
END:VEVENT
END:VCALENDAR
