BEGIN:VCALENDAR
VERSION:2.0
PRODID:-//gcpc.org//NONSGML kigkonsult.se iCalcreator 2.30.10//
CALSCALE:GREGORIAN
METHOD:PUBLISH
UID:90859aa2-6d23-4cd8-982b-c77c07316b1e
X-WR-CALDESC:
X-WR-RELCALID:c256e086fec8ffc9c377f7c02350ae07
X-WR-TIMEZONE:America/Chicago
BEGIN:VTIMEZONE
TZID:America/Chicago
BEGIN:STANDARD
TZNAME:CST
DTSTART:20251102T020000
TZOFFSETFROM:-0500
TZOFFSETTO:-0600
RDATE:20261101T020000
RDATE:20271107T020000
END:STANDARD
BEGIN:DAYLIGHT
TZNAME:CDT
DTSTART:20260308T020000
TZOFFSETFROM:-0600
TZOFFSETTO:-0500
RDATE:20270314T020000
END:DAYLIGHT
END:VTIMEZONE
BEGIN:VEVENT
UID:4e73292b-12ee-4f2e-91be-6e91064c26cd
DTSTAMP:20260420T045403Z
DESCRIPTION:
DTSTART;TZID=America/Chicago:20260830T104500
DTEND;TZID=America/Chicago:20260830T114500
LOCATION:
SUMMARY:Christian Education
END:VEVENT
END:VCALENDAR
