BEGIN:VCALENDAR
VERSION:2.0
PRODID:-//gcpc.org//NONSGML kigkonsult.se iCalcreator 2.30.10//
CALSCALE:GREGORIAN
METHOD:PUBLISH
UID:b72e8627-6644-40c1-8548-e7773ac3dcec
X-WR-CALDESC:
X-WR-RELCALID:56f79cc2d8bfb29e371b10b20beff187
X-WR-TIMEZONE:America/Chicago
BEGIN:VTIMEZONE
TZID:America/Chicago
BEGIN:STANDARD
TZNAME:CST
DTSTART:20251102T020000
TZOFFSETFROM:-0500
TZOFFSETTO:-0600
RDATE:20261101T020000
RDATE:20271107T020000
END:STANDARD
BEGIN:DAYLIGHT
TZNAME:CDT
DTSTART:20260308T020000
TZOFFSETFROM:-0600
TZOFFSETTO:-0500
RDATE:20270314T020000
END:DAYLIGHT
END:VTIMEZONE
BEGIN:VEVENT
UID:c271b637-b640-4a30-9507-4733c0131b91
DTSTAMP:20260422T173613Z
DESCRIPTION:
DTSTART;TZID=America/Chicago:20260907T190000
DTEND;TZID=America/Chicago:20260907T200000
LOCATION:Room 3
SUMMARY:Worship Team
END:VEVENT
END:VCALENDAR
