BEGIN:VCALENDAR
VERSION:2.0
PRODID:-//gcpc.org//NONSGML kigkonsult.se iCalcreator 2.30.10//
CALSCALE:GREGORIAN
METHOD:PUBLISH
UID:c324fc7f-f6de-4451-92bf-fb42bdb5d130
X-WR-CALDESC:Once a month\, SMASH happens! This popular program is an activ
 ity for 1st through 5th graders combining sports\, music\, arts\, service\
 , and “hangout” time and offers a time for children to be nurtured in fait
 h by building relationships with a variety of adults of all ages.
X-WR-RELCALID:5b469fb537ae90d21cf700d25fc3ecd8
X-WR-TIMEZONE:America/Chicago
BEGIN:VTIMEZONE
TZID:America/Chicago
BEGIN:STANDARD
TZNAME:CST
DTSTART:20251102T020000
TZOFFSETFROM:-0500
TZOFFSETTO:-0600
RDATE:20261101T020000
RDATE:20271107T020000
END:STANDARD
BEGIN:DAYLIGHT
TZNAME:CDT
DTSTART:20260308T020000
TZOFFSETFROM:-0600
TZOFFSETTO:-0500
RDATE:20270314T020000
RDATE:20280312T020000
END:DAYLIGHT
END:VTIMEZONE
BEGIN:VEVENT
UID:31f3790d-4515-4af8-8ccf-451bddaedef7
DTSTAMP:20260422T134359Z
DESCRIPTION:Once a month\, SMASH happens! This popular program is an activi
 ty for 1st through 5th graders combining sports\, music\, arts\, service\,
  and “hangout” time and offers a time for children to be nurtured in faith
  by building relationships with a variety of adults of all ages.
DTSTART;TZID=America/Chicago:20260920T160000
DTEND;TZID=America/Chicago:20260920T180000
LOCATION:Heartland Hall
SUMMARY:SMASH
END:VEVENT
END:VCALENDAR
