BEGIN:VCALENDAR
VERSION:2.0
PRODID:-//gcpc.org//NONSGML kigkonsult.se iCalcreator 2.30.10//
CALSCALE:GREGORIAN
METHOD:PUBLISH
UID:5b8f9ede-1673-4b0f-b98e-d6f458554030
X-WR-CALDESC:Message Cheryl to see where group is meeting
X-WR-RELCALID:ed1750dc340aacf58388cedefc9ad862
X-WR-TIMEZONE:America/Chicago
BEGIN:VTIMEZONE
TZID:America/Chicago
BEGIN:STANDARD
TZNAME:CST
DTSTART:20251102T020000
TZOFFSETFROM:-0500
TZOFFSETTO:-0600
RDATE:20261101T020000
RDATE:20271107T020000
END:STANDARD
BEGIN:DAYLIGHT
TZNAME:CDT
DTSTART:20260308T020000
TZOFFSETFROM:-0600
TZOFFSETTO:-0500
RDATE:20270314T020000
RDATE:20280312T020000
END:DAYLIGHT
END:VTIMEZONE
BEGIN:VEVENT
UID:e3591802-845b-4267-8167-31c2befd8451
DTSTAMP:20260422T120415Z
DESCRIPTION:Message Cheryl to see where group is meeting
DTSTART;TZID=America/Chicago:20260922T190000
DTEND;TZID=America/Chicago:20260922T203000
LOCATION:Room 5 or in members homes
SUMMARY:Crafters (Evening)
END:VEVENT
END:VCALENDAR
