BEGIN:VCALENDAR
VERSION:2.0
PRODID:-//gcpc.org//NONSGML kigkonsult.se iCalcreator 2.30.10//
CALSCALE:GREGORIAN
METHOD:PUBLISH
UID:a5b3db11-f340-4c84-b4de-5433fbb7619a
X-WR-CALDESC:
X-WR-RELCALID:a07d9d84460e0b70290409c9500762ef
X-WR-TIMEZONE:America/Chicago
BEGIN:VTIMEZONE
TZID:America/Chicago
BEGIN:STANDARD
TZNAME:CST
DTSTART:20251102T020000
TZOFFSETFROM:-0500
TZOFFSETTO:-0600
RDATE:20261101T020000
RDATE:20271107T020000
END:STANDARD
BEGIN:DAYLIGHT
TZNAME:CDT
DTSTART:20260308T020000
TZOFFSETFROM:-0600
TZOFFSETTO:-0500
RDATE:20270314T020000
RDATE:20280312T020000
END:DAYLIGHT
END:VTIMEZONE
BEGIN:VEVENT
UID:1d80b6ff-b3d5-40ac-bae4-0ad3936fc9a7
DTSTAMP:20260422T145655Z
DESCRIPTION:
DTSTART;TZID=America/Chicago:20260924T183000
DTEND;TZID=America/Chicago:20260924T200000
LOCATION:ONLINE
SUMMARY:Connections & Care Meeting
END:VEVENT
END:VCALENDAR
