BEGIN:VCALENDAR
VERSION:2.0
PRODID:-//gcpc.org//NONSGML kigkonsult.se iCalcreator 2.30.10//
CALSCALE:GREGORIAN
METHOD:PUBLISH
UID:6229c390-0d04-4985-a7de-62d4d1303cf9
X-WR-CALDESC:Please contact Tom\, 913-530-0981\, for more information about
  the College Nooners.
X-WR-RELCALID:daaeff7dce514f8afe1fa300f0fcb01c
X-WR-TIMEZONE:America/Chicago
BEGIN:VTIMEZONE
TZID:America/Chicago
BEGIN:STANDARD
TZNAME:CST
DTSTART:20251102T020000
TZOFFSETFROM:-0500
TZOFFSETTO:-0600
RDATE:20261101T020000
RDATE:20271107T020000
END:STANDARD
BEGIN:DAYLIGHT
TZNAME:CDT
DTSTART:20260308T020000
TZOFFSETFROM:-0600
TZOFFSETTO:-0500
RDATE:20270314T020000
RDATE:20280312T020000
END:DAYLIGHT
END:VTIMEZONE
BEGIN:VEVENT
UID:fcdca75f-e632-4a1c-b2ae-1af2bfed7c9d
DTSTAMP:20260422T195847Z
DESCRIPTION:Please contact Tom\, 913-530-0981\, for more information about 
 the College Nooners.
DTSTART;TZID=America/Chicago:20260927T133000
DTEND;TZID=America/Chicago:20260927T143000
LOCATION:In-Person
SUMMARY:College Nooners AA
END:VEVENT
END:VCALENDAR
