BEGIN:VCALENDAR
VERSION:2.0
PRODID:-//gcpc.org//NONSGML kigkonsult.se iCalcreator 2.30.10//
CALSCALE:GREGORIAN
METHOD:PUBLISH
UID:63332286-abed-472c-93d5-ef44002150d8
X-WR-CALDESC:Set-up begins at 12:30pm - actual playing time is 1-4pm
X-WR-RELCALID:01c9dfb791404ed2fd2bd14d53a6d164
X-WR-TIMEZONE:America/Chicago
BEGIN:VTIMEZONE
TZID:America/Chicago
BEGIN:STANDARD
TZNAME:CST
DTSTART:20251102T020000
TZOFFSETFROM:-0500
TZOFFSETTO:-0600
RDATE:20261101T020000
RDATE:20271107T020000
END:STANDARD
BEGIN:DAYLIGHT
TZNAME:CDT
DTSTART:20260308T020000
TZOFFSETFROM:-0600
TZOFFSETTO:-0500
RDATE:20270314T020000
RDATE:20280312T020000
END:DAYLIGHT
END:VTIMEZONE
BEGIN:VEVENT
UID:d515a363-ff1f-4d89-8dd7-c7b2df219395
DTSTAMP:20260424T205218Z
DESCRIPTION:Set-up begins at 12:30pm - actual playing time is 1-4pm
DTSTART;TZID=America/Chicago:20261005T130000
DTEND;TZID=America/Chicago:20261005T163000
LOCATION:Room 5
SUMMARY:Bridge Group
END:VEVENT
END:VCALENDAR
