BEGIN:VCALENDAR
VERSION:2.0
PRODID:-//gcpc.org//NONSGML kigkonsult.se iCalcreator 2.30.10//
CALSCALE:GREGORIAN
METHOD:PUBLISH
UID:4d08d655-4b7b-47de-a0e5-da17432e1d64
X-WR-CALDESC:Once a month\, SMASH happens! This popular program is an activ
 ity for 1st through 5th graders combining sports\, music\, arts\, service\
 , and “hangout” time and offers a time for children to be nurtured in fait
 h by building relationships with a variety of adults of all ages.
X-WR-RELCALID:7ddda13ce7635b7eff72e3eda7e1c15a
X-WR-TIMEZONE:America/Chicago
BEGIN:VTIMEZONE
TZID:America/Chicago
BEGIN:STANDARD
TZNAME:CST
DTSTART:20251102T020000
TZOFFSETFROM:-0500
TZOFFSETTO:-0600
RDATE:20261101T020000
RDATE:20271107T020000
END:STANDARD
BEGIN:DAYLIGHT
TZNAME:CDT
DTSTART:20260308T020000
TZOFFSETFROM:-0600
TZOFFSETTO:-0500
RDATE:20270314T020000
RDATE:20280312T020000
END:DAYLIGHT
END:VTIMEZONE
BEGIN:VEVENT
UID:6e42864f-3e2c-4d85-8d16-7c13b7a196b9
DTSTAMP:20260425T012617Z
DESCRIPTION:Once a month\, SMASH happens! This popular program is an activi
 ty for 1st through 5th graders combining sports\, music\, arts\, service\,
  and “hangout” time and offers a time for children to be nurtured in faith
  by building relationships with a variety of adults of all ages.
DTSTART;TZID=America/Chicago:20261018T160000
DTEND;TZID=America/Chicago:20261018T180000
LOCATION:Heartland Hall
SUMMARY:SMASH
END:VEVENT
END:VCALENDAR
