BEGIN:VCALENDAR
VERSION:2.0
PRODID:-//gcpc.org//NONSGML kigkonsult.se iCalcreator 2.30.10//
CALSCALE:GREGORIAN
METHOD:PUBLISH
UID:be542ee2-26d8-4b8d-8fe3-67a473fc7b0c
X-WR-CALDESC:
X-WR-RELCALID:84ce35f7cc0d20f42f33a3ea7b4d2cf3
X-WR-TIMEZONE:America/Chicago
BEGIN:VTIMEZONE
TZID:America/Chicago
BEGIN:STANDARD
TZNAME:CST
DTSTART:20251102T020000
TZOFFSETFROM:-0500
TZOFFSETTO:-0600
RDATE:20261101T020000
RDATE:20271107T020000
END:STANDARD
BEGIN:DAYLIGHT
TZNAME:CDT
DTSTART:20260308T020000
TZOFFSETFROM:-0600
TZOFFSETTO:-0500
RDATE:20270314T020000
RDATE:20280312T020000
END:DAYLIGHT
END:VTIMEZONE
BEGIN:VEVENT
UID:e89759eb-dbf9-4b01-a27d-c96899c806e4
DTSTAMP:20260425T014305Z
DESCRIPTION:
DTSTART;TZID=America/Chicago:20261019T190000
DTEND;TZID=America/Chicago:20261019T220000
LOCATION:ONLINE
SUMMARY:Session Meeting
END:VEVENT
END:VCALENDAR
