BEGIN:VCALENDAR
VERSION:2.0
PRODID:-//gcpc.org//NONSGML kigkonsult.se iCalcreator 2.30.10//
CALSCALE:GREGORIAN
METHOD:PUBLISH
UID:83f7c956-98e9-41fb-a664-214fbc6cbd98
X-WR-CALDESC:Meets in Room 21. Contact Pat Collins\, p5c_70@yahoo.com\, for
  more information.
X-WR-RELCALID:1d717cc3239dceabe0c60ada38f55423
X-WR-TIMEZONE:America/Chicago
BEGIN:VTIMEZONE
TZID:America/Chicago
BEGIN:STANDARD
TZNAME:CST
DTSTART:20251102T020000
TZOFFSETFROM:-0500
TZOFFSETTO:-0600
RDATE:20261101T020000
RDATE:20271107T020000
END:STANDARD
BEGIN:DAYLIGHT
TZNAME:CDT
DTSTART:20260308T020000
TZOFFSETFROM:-0600
TZOFFSETTO:-0500
RDATE:20270314T020000
RDATE:20280312T020000
END:DAYLIGHT
END:VTIMEZONE
BEGIN:VEVENT
UID:882f0f1d-90bc-48e5-86b8-c79be96eb13f
DTSTAMP:20260425T012821Z
DESCRIPTION:Meets in Room 21. Contact Pat Collins\, p5c_70@yahoo.com\, for 
 more information.
DTSTART;TZID=America/Chicago:20261020T130000
DTEND;TZID=America/Chicago:20261020T143000
LOCATION:Room 21
SUMMARY:Crafters (Daytime)
END:VEVENT
END:VCALENDAR
