BEGIN:VCALENDAR
VERSION:2.0
PRODID:-//gcpc.org//NONSGML kigkonsult.se iCalcreator 2.30.10//
CALSCALE:GREGORIAN
METHOD:PUBLISH
UID:a40ad13e-c774-466c-a723-c3f07b385da1
X-WR-CALDESC:Troop 122\n\nAdditional Contact:  Bill Brown\; brownchat12337@
 gmail.com
X-WR-RELCALID:676ec52d4cdd2aa292aaf1e68a7bb4c3
X-WR-TIMEZONE:America/Chicago
BEGIN:VTIMEZONE
TZID:America/Chicago
BEGIN:STANDARD
TZNAME:CST
DTSTART:20251102T020000
TZOFFSETFROM:-0500
TZOFFSETTO:-0600
RDATE:20261101T020000
RDATE:20271107T020000
END:STANDARD
BEGIN:DAYLIGHT
TZNAME:CDT
DTSTART:20260308T020000
TZOFFSETFROM:-0600
TZOFFSETTO:-0500
RDATE:20270314T020000
RDATE:20280312T020000
END:DAYLIGHT
END:VTIMEZONE
BEGIN:VEVENT
UID:a76f0c97-c490-4a08-bc24-a48dcebedb68
DTSTAMP:20260424T192105Z
DESCRIPTION:Troop 122\n\nAdditional Contact:  Bill Brown\; brownchat12337@g
 mail.com
DTSTART;TZID=America/Chicago:20261026T183000
DTEND;TZID=America/Chicago:20261026T210000
LOCATION:OUTDOORS
SUMMARY:Scouts
END:VEVENT
END:VCALENDAR
