BEGIN:VCALENDAR
VERSION:2.0
PRODID:-//gcpc.org//NONSGML kigkonsult.se iCalcreator 2.30.10//
CALSCALE:GREGORIAN
METHOD:PUBLISH
UID:6c60d476-ead1-435e-9f60-ab246a0ad058
X-WR-CALDESC:Message Cheryl to see where group is meeting
X-WR-RELCALID:bb05458f5399e9312be6cead06f3265d
X-WR-TIMEZONE:America/Chicago
BEGIN:VTIMEZONE
TZID:America/Chicago
BEGIN:STANDARD
TZNAME:CST
DTSTART:20251102T020000
TZOFFSETFROM:-0500
TZOFFSETTO:-0600
RDATE:20261101T020000
RDATE:20271107T020000
END:STANDARD
BEGIN:DAYLIGHT
TZNAME:CDT
DTSTART:20260308T020000
TZOFFSETFROM:-0600
TZOFFSETTO:-0500
RDATE:20270314T020000
RDATE:20280312T020000
END:DAYLIGHT
END:VTIMEZONE
BEGIN:VEVENT
UID:a4f4c7ac-b3b3-4a42-834b-e5005c7bf582
DTSTAMP:20260424T203047Z
DESCRIPTION:Message Cheryl to see where group is meeting
DTSTART;TZID=America/Chicago:20261027T190000
DTEND;TZID=America/Chicago:20261027T203000
LOCATION:Room 5 or in members homes
SUMMARY:Crafters (Evening)
END:VEVENT
END:VCALENDAR
