BEGIN:VCALENDAR
VERSION:2.0
PRODID:-//gcpc.org//NONSGML kigkonsult.se iCalcreator 2.30.10//
CALSCALE:GREGORIAN
METHOD:PUBLISH
UID:4a41fa7d-19e9-4422-bc34-0fb87cd1a147
X-WR-CALDESC:
X-WR-RELCALID:9efa01668de15116786b13d03c47ce4e
X-WR-TIMEZONE:America/Chicago
BEGIN:VTIMEZONE
TZID:America/Chicago
BEGIN:STANDARD
TZNAME:CST
DTSTART:20261101T020000
TZOFFSETFROM:-0500
TZOFFSETTO:-0600
RDATE:20271107T020000
END:STANDARD
BEGIN:DAYLIGHT
TZNAME:CDT
DTSTART:20260308T020000
TZOFFSETFROM:-0600
TZOFFSETTO:-0500
RDATE:20270314T020000
RDATE:20280312T020000
END:DAYLIGHT
END:VTIMEZONE
BEGIN:VEVENT
UID:64fc14b7-3948-4b62-b2b7-22801bee808b
DTSTAMP:20260425T194956Z
DESCRIPTION:
DTSTART;TZID=America/Chicago:20261109T173000
DTEND;TZID=America/Chicago:20261109T183000
LOCATION:ONLINE
SUMMARY:Operations Committee - ONLINE
END:VEVENT
END:VCALENDAR
