BEGIN:VCALENDAR
VERSION:2.0
PRODID:-//gcpc.org//NONSGML kigkonsult.se iCalcreator 2.30.10//
CALSCALE:GREGORIAN
METHOD:PUBLISH
UID:e13cd2cb-cfe6-4d72-a139-8c8bf28f9bb4
X-WR-CALDESC:For information about the group\, please contact Tom\, 913-530
 -0981.
X-WR-RELCALID:fabb0f281e8df3939593ea135e9425c5
X-WR-TIMEZONE:America/Chicago
BEGIN:VTIMEZONE
TZID:America/Chicago
BEGIN:STANDARD
TZNAME:CST
DTSTART:20261101T020000
TZOFFSETFROM:-0500
TZOFFSETTO:-0600
RDATE:20271107T020000
END:STANDARD
BEGIN:DAYLIGHT
TZNAME:CDT
DTSTART:20260308T020000
TZOFFSETFROM:-0600
TZOFFSETTO:-0500
RDATE:20270314T020000
RDATE:20280312T020000
END:DAYLIGHT
END:VTIMEZONE
BEGIN:VEVENT
UID:87f9bb27-ba70-4f23-9654-03e101b22061
DTSTAMP:20260425T214445Z
DESCRIPTION:For information about the group\, please contact Tom\, 913-530-
 0981.
DTSTART;TZID=America/Chicago:20261110T120000
DTEND;TZID=America/Chicago:20261110T130000
LOCATION:In-Person
SUMMARY:College Nooners AA
END:VEVENT
END:VCALENDAR
