BEGIN:VCALENDAR
VERSION:2.0
PRODID:-//gcpc.org//NONSGML kigkonsult.se iCalcreator 2.30.10//
CALSCALE:GREGORIAN
METHOD:PUBLISH
UID:cb46e063-3cf6-4ea7-9bd3-70aac811332c
X-WR-CALDESC:Once a month\, SMASH happens! This popular program is an activ
 ity for 1st through 5th graders combining sports\, music\, arts\, service\
 , and “hangout” time and offers a time for children to be nurtured in fait
 h by building relationships with a variety of adults of all ages.
X-WR-RELCALID:47f1f778c3ef6c45cd2e511d32f453ac
X-WR-TIMEZONE:America/Chicago
BEGIN:VTIMEZONE
TZID:America/Chicago
BEGIN:STANDARD
TZNAME:CST
DTSTART:20261101T020000
TZOFFSETFROM:-0500
TZOFFSETTO:-0600
RDATE:20271107T020000
END:STANDARD
BEGIN:DAYLIGHT
TZNAME:CDT
DTSTART:20260308T020000
TZOFFSETFROM:-0600
TZOFFSETTO:-0500
RDATE:20270314T020000
RDATE:20280312T020000
END:DAYLIGHT
END:VTIMEZONE
BEGIN:VEVENT
UID:6c627152-0548-4141-ad11-9a09a1a942f5
DTSTAMP:20260425T213735Z
DESCRIPTION:Once a month\, SMASH happens! This popular program is an activi
 ty for 1st through 5th graders combining sports\, music\, arts\, service\,
  and “hangout” time and offers a time for children to be nurtured in faith
  by building relationships with a variety of adults of all ages.
DTSTART;TZID=America/Chicago:20261115T160000
DTEND;TZID=America/Chicago:20261115T180000
LOCATION:Heartland Hall
SUMMARY:SMASH
END:VEVENT
END:VCALENDAR
