BEGIN:VCALENDAR
VERSION:2.0
PRODID:-//gcpc.org//NONSGML kigkonsult.se iCalcreator 2.30.10//
CALSCALE:GREGORIAN
METHOD:PUBLISH
UID:1ef9ae50-1f29-49d0-acff-269000ca3fe5
X-WR-CALDESC:For information about the group\, please contact Tom\, 913-530
 -0981.
X-WR-RELCALID:d779b49253cc881c6b5dbd8d3ef3d0da
X-WR-TIMEZONE:America/Chicago
BEGIN:VTIMEZONE
TZID:America/Chicago
BEGIN:STANDARD
TZNAME:CST
DTSTART:20261101T020000
TZOFFSETFROM:-0500
TZOFFSETTO:-0600
RDATE:20271107T020000
END:STANDARD
BEGIN:DAYLIGHT
TZNAME:CDT
DTSTART:20260308T020000
TZOFFSETFROM:-0600
TZOFFSETTO:-0500
RDATE:20270314T020000
RDATE:20280312T020000
END:DAYLIGHT
END:VTIMEZONE
BEGIN:VEVENT
UID:f4724039-e61c-4a4d-9a45-32387e19e885
DTSTAMP:20260425T170241Z
DESCRIPTION:For information about the group\, please contact Tom\, 913-530-
 0981.
DTSTART;TZID=America/Chicago:20261119T120000
DTEND;TZID=America/Chicago:20261119T130000
LOCATION:In-Person
SUMMARY:College Nooners AA
END:VEVENT
END:VCALENDAR
