BEGIN:VCALENDAR
VERSION:2.0
PRODID:-//gcpc.org//NONSGML kigkonsult.se iCalcreator 2.30.10//
CALSCALE:GREGORIAN
METHOD:PUBLISH
UID:59e7eb9b-7a21-44af-8aed-bba69979b360
X-WR-CALDESC:
X-WR-RELCALID:e768efa512ec62b26a204d4ae6defc43
X-WR-TIMEZONE:America/Chicago
BEGIN:VTIMEZONE
TZID:America/Chicago
BEGIN:STANDARD
TZNAME:CST
DTSTART:20261101T020000
TZOFFSETFROM:-0500
TZOFFSETTO:-0600
RDATE:20271107T020000
END:STANDARD
BEGIN:DAYLIGHT
TZNAME:CDT
DTSTART:20260308T020000
TZOFFSETFROM:-0600
TZOFFSETTO:-0500
RDATE:20270314T020000
RDATE:20280312T020000
END:DAYLIGHT
END:VTIMEZONE
BEGIN:VEVENT
UID:ee06ae79-1a39-439a-a0a3-99c787ebcefa
DTSTAMP:20260425T123400Z
DESCRIPTION:
DTSTART;TZID=America/Chicago:20261122T104500
DTEND;TZID=America/Chicago:20261122T114500
LOCATION:
SUMMARY:Christian Education
END:VEVENT
END:VCALENDAR
