BEGIN:VCALENDAR
VERSION:2.0
PRODID:-//gcpc.org//NONSGML kigkonsult.se iCalcreator 2.30.10//
CALSCALE:GREGORIAN
METHOD:PUBLISH
UID:b76a2d82-5c4e-4cd5-86f3-ddfe65eccfd1
X-WR-CALDESC:Please contact Tom\, 913-530-0981\, for more information about
  the College Nooners.
X-WR-RELCALID:ed02d4d2a39069b4f2876eaf3a4458ec
X-WR-TIMEZONE:America/Chicago
BEGIN:VTIMEZONE
TZID:America/Chicago
BEGIN:STANDARD
TZNAME:CST
DTSTART:20261101T020000
TZOFFSETFROM:-0500
TZOFFSETTO:-0600
RDATE:20271107T020000
END:STANDARD
BEGIN:DAYLIGHT
TZNAME:CDT
DTSTART:20260308T020000
TZOFFSETFROM:-0600
TZOFFSETTO:-0500
RDATE:20270314T020000
RDATE:20280312T020000
END:DAYLIGHT
END:VTIMEZONE
BEGIN:VEVENT
UID:3e8a4519-8474-45af-a431-818f8c9ba530
DTSTAMP:20260425T200701Z
DESCRIPTION:Please contact Tom\, 913-530-0981\, for more information about 
 the College Nooners.
DTSTART;TZID=America/Chicago:20261122T133000
DTEND;TZID=America/Chicago:20261122T143000
LOCATION:In-Person
SUMMARY:College Nooners AA
END:VEVENT
END:VCALENDAR
