BEGIN:VCALENDAR
VERSION:2.0
PRODID:-//gcpc.org//NONSGML kigkonsult.se iCalcreator 2.30.10//
CALSCALE:GREGORIAN
METHOD:PUBLISH
UID:58071bfa-fa78-4038-bf05-15b2d5a4974e
X-WR-CALDESC:
X-WR-RELCALID:18e26188bd73a867b798605fa04e8df8
X-WR-TIMEZONE:America/Chicago
BEGIN:VTIMEZONE
TZID:America/Chicago
BEGIN:STANDARD
TZNAME:CST
DTSTART:20261101T020000
TZOFFSETFROM:-0500
TZOFFSETTO:-0600
RDATE:20271107T020000
END:STANDARD
BEGIN:DAYLIGHT
TZNAME:CDT
DTSTART:20260308T020000
TZOFFSETFROM:-0600
TZOFFSETTO:-0500
RDATE:20270314T020000
RDATE:20280312T020000
END:DAYLIGHT
END:VTIMEZONE
BEGIN:VEVENT
UID:6b8fdb5f-092d-489a-b18c-295ecf46a6ad
DTSTAMP:20260425T110752Z
DESCRIPTION:
DTSTART;TZID=America/Chicago:20261123T173000
DTEND;TZID=America/Chicago:20261123T184500
LOCATION:ONLINE
SUMMARY:Welcoming Team- ONLINE
END:VEVENT
END:VCALENDAR
