BEGIN:VCALENDAR
VERSION:2.0
PRODID:-//gcpc.org//NONSGML kigkonsult.se iCalcreator 2.30.10//
CALSCALE:GREGORIAN
METHOD:PUBLISH
UID:556ccd60-eede-4659-b8b1-220fa550fda1
X-WR-CALDESC:Troop 122\n\nAdditional Contact:  Bill Brown\; brownchat12337@
 gmail.com
X-WR-RELCALID:6b429b341be69dc90274e46ea88b180a
X-WR-TIMEZONE:America/Chicago
BEGIN:VTIMEZONE
TZID:America/Chicago
BEGIN:STANDARD
TZNAME:CST
DTSTART:20261101T020000
TZOFFSETFROM:-0500
TZOFFSETTO:-0600
RDATE:20271107T020000
END:STANDARD
BEGIN:DAYLIGHT
TZNAME:CDT
DTSTART:20260308T020000
TZOFFSETFROM:-0600
TZOFFSETTO:-0500
RDATE:20270314T020000
RDATE:20280312T020000
END:DAYLIGHT
END:VTIMEZONE
BEGIN:VEVENT
UID:09085093-fd06-49e8-b37a-5b6b0fab07aa
DTSTAMP:20260425T152941Z
DESCRIPTION:Troop 122\n\nAdditional Contact:  Bill Brown\; brownchat12337@g
 mail.com
DTSTART;TZID=America/Chicago:20261130T183000
DTEND;TZID=America/Chicago:20261130T210000
LOCATION:OUTDOORS
SUMMARY:Scouts
END:VEVENT
END:VCALENDAR
