BEGIN:VCALENDAR
VERSION:2.0
PRODID:-//gcpc.org//NONSGML kigkonsult.se iCalcreator 2.30.10//
CALSCALE:GREGORIAN
METHOD:PUBLISH
UID:b975d15f-4069-4261-ac24-14c55bfeebbc
X-WR-CALDESC:Message Cheryl to see where group is meeting
X-WR-RELCALID:7683c6e8e44fd372779d02db31957d0c
X-WR-TIMEZONE:America/Chicago
BEGIN:VTIMEZONE
TZID:America/Chicago
BEGIN:STANDARD
TZNAME:CST
DTSTART:20261101T020000
TZOFFSETFROM:-0500
TZOFFSETTO:-0600
RDATE:20271107T020000
END:STANDARD
BEGIN:DAYLIGHT
TZNAME:CDT
DTSTART:20260308T020000
TZOFFSETFROM:-0600
TZOFFSETTO:-0500
RDATE:20270314T020000
RDATE:20280312T020000
END:DAYLIGHT
END:VTIMEZONE
BEGIN:VEVENT
UID:71f8dd4a-d780-4a80-8adb-6c76fcd5b3d7
DTSTAMP:20260426T035850Z
DESCRIPTION:Message Cheryl to see where group is meeting
DTSTART;TZID=America/Chicago:20261222T190000
DTEND;TZID=America/Chicago:20261222T203000
LOCATION:Room 5 or in members homes
SUMMARY:Crafters (Evening)
END:VEVENT
END:VCALENDAR
