BEGIN:VCALENDAR
VERSION:2.0
PRODID:-//gcpc.org//NONSGML kigkonsult.se iCalcreator 2.30.10//
CALSCALE:GREGORIAN
METHOD:PUBLISH
UID:1ec33b5c-4a70-4721-85d4-267532a98612
X-WR-CALDESC:
X-WR-RELCALID:85b2df7f6a7c7edb5b9a9118accb80f8
X-WR-TIMEZONE:America/Chicago
BEGIN:VTIMEZONE
TZID:America/Chicago
BEGIN:STANDARD
TZNAME:CST
DTSTART:20261101T020000
TZOFFSETFROM:-0500
TZOFFSETTO:-0600
RDATE:20271107T020000
END:STANDARD
BEGIN:DAYLIGHT
TZNAME:CDT
DTSTART:20260308T020000
TZOFFSETFROM:-0600
TZOFFSETTO:-0500
RDATE:20270314T020000
RDATE:20280312T020000
END:DAYLIGHT
END:VTIMEZONE
BEGIN:VEVENT
UID:8c7e7330-0808-4355-9ed7-77ce64fc98f8
DTSTAMP:20260426T040310Z
DESCRIPTION:
DTSTART;TZID=America/Chicago:20261228T173000
DTEND;TZID=America/Chicago:20261228T184500
LOCATION:ONLINE
SUMMARY:Welcoming Team- ONLINE
END:VEVENT
END:VCALENDAR
