BEGIN:VCALENDAR
VERSION:2.0
PRODID:-//gcpc.org//NONSGML kigkonsult.se iCalcreator 2.30.10//
CALSCALE:GREGORIAN
METHOD:PUBLISH
UID:32d4c11b-675e-442c-b808-30bb6b13625e
X-WR-CALDESC:
X-WR-RELCALID:6252021bb7ad9cba3afd9f39d8ee744a
X-WR-TIMEZONE:America/Chicago
BEGIN:VTIMEZONE
TZID:America/Chicago
BEGIN:STANDARD
TZNAME:CST
DTSTART:20201101T020000
TZOFFSETFROM:-0500
TZOFFSETTO:-0600
RDATE:20211107T020000
END:STANDARD
BEGIN:DAYLIGHT
TZNAME:CDT
DTSTART:20210314T020000
TZOFFSETFROM:-0600
TZOFFSETTO:-0500
RDATE:20220313T020000
END:DAYLIGHT
END:VTIMEZONE
BEGIN:VEVENT
UID:37f22def-7fa6-4874-8b2d-8adc0b38de34
DTSTAMP:20260422T172902Z
DESCRIPTION:
DTSTART;TZID=America/Chicago:20210418T100000
DTEND;TZID=America/Chicago:20210418T110000
LOCATION:Room 4
SUMMARY:Esther Circle
END:VEVENT
END:VCALENDAR
