BEGIN:VCALENDAR
VERSION:2.0
PRODID:-//gcpc.org//NONSGML kigkonsult.se iCalcreator 2.30.10//
CALSCALE:GREGORIAN
METHOD:PUBLISH
UID:faa627b8-3690-48e0-8e54-92e1ae7d25e7
X-WR-CALDESC:Meets during school year.  Many retired women are in this grou
 p.
X-WR-RELCALID:a9dfe0afadcc3e6d876cd45360ec7e42
X-WR-TIMEZONE:America/Chicago
BEGIN:VTIMEZONE
TZID:America/Chicago
BEGIN:STANDARD
TZNAME:CST
DTSTART:20221106T020000
TZOFFSETFROM:-0500
TZOFFSETTO:-0600
RDATE:20231105T020000
RDATE:20241103T020000
END:STANDARD
BEGIN:DAYLIGHT
TZNAME:CDT
DTSTART:20230312T020000
TZOFFSETFROM:-0600
TZOFFSETTO:-0500
RDATE:20240310T020000
END:DAYLIGHT
END:VTIMEZONE
BEGIN:VEVENT
UID:9b4f2a40-5551-4d35-99c0-58074d8d2b9e
DTSTAMP:20260424T092746Z
DESCRIPTION:Meets during school year.  Many retired women are in this group
 .
DTSTART;TZID=America/Chicago:20230706T130000
DTEND;TZID=America/Chicago:20230706T143000
LOCATION:Room 3
SUMMARY:Naomi Circle
END:VEVENT
END:VCALENDAR
