BEGIN:VCALENDAR
VERSION:2.0
PRODID:-//gcpc.org//NONSGML kigkonsult.se iCalcreator 2.30.10//
CALSCALE:GREGORIAN
METHOD:PUBLISH
UID:a0ed11e8-107f-4f61-ade2-50699e8824c3
X-WR-CALDESC:Rachel/Ruth Circle is a mixed age group of women that meets 1:
 30-3pm on the fourth Monday of the month during the school year in Room 3 
 at the church.
X-WR-RELCALID:97f2099ab2e500230df6b126fee60b2a
X-WR-TIMEZONE:America/Chicago
BEGIN:VTIMEZONE
TZID:America/Chicago
BEGIN:STANDARD
TZNAME:CST
DTSTART:20231105T020000
TZOFFSETFROM:-0500
TZOFFSETTO:-0600
RDATE:20241103T020000
END:STANDARD
BEGIN:DAYLIGHT
TZNAME:CDT
DTSTART:20240310T020000
TZOFFSETFROM:-0600
TZOFFSETTO:-0500
RDATE:20250309T020000
END:DAYLIGHT
END:VTIMEZONE
BEGIN:VEVENT
UID:04a3822c-f075-4bf2-a80d-8f56f635b287
DTSTAMP:20260424T221027Z
DESCRIPTION:Rachel/Ruth Circle is a mixed age group of women that meets 1:3
 0-3pm on the fourth Monday of the month during the school year in Room 3 a
 t the church.
DTSTART;TZID=America/Chicago:20240325T133000
DTEND;TZID=America/Chicago:20240325T150000
LOCATION:Room 3
SUMMARY:Rachel/Ruth Circle
END:VEVENT
END:VCALENDAR
