BEGIN:VCALENDAR
VERSION:2.0
PRODID:-//gcpc.org//NONSGML kigkonsult.se iCalcreator 2.30.10//
CALSCALE:GREGORIAN
METHOD:PUBLISH
UID:08855bb9-9f02-494b-afd3-2c75f03df86a
X-WR-CALDESC:Meets during school year.  Many retired women are in this grou
 p.
X-WR-RELCALID:1a4eba97ddf0253537a9c3539a1e83b3
X-WR-TIMEZONE:America/Chicago
BEGIN:VTIMEZONE
TZID:America/Chicago
BEGIN:STANDARD
TZNAME:CST
DTSTART:20231105T020000
TZOFFSETFROM:-0500
TZOFFSETTO:-0600
RDATE:20241103T020000
RDATE:20251102T020000
END:STANDARD
BEGIN:DAYLIGHT
TZNAME:CDT
DTSTART:20240310T020000
TZOFFSETFROM:-0600
TZOFFSETTO:-0500
RDATE:20250309T020000
END:DAYLIGHT
END:VTIMEZONE
BEGIN:VEVENT
UID:0940a44a-55b6-41af-8c30-52346d625a38
DTSTAMP:20260424T123921Z
DESCRIPTION:Meets during school year.  Many retired women are in this group
 .
DTSTART;TZID=America/Chicago:20240905T130000
DTEND;TZID=America/Chicago:20240905T143000
LOCATION:Room 3
SUMMARY:Naomi Circle
END:VEVENT
END:VCALENDAR
