BEGIN:VCALENDAR
VERSION:2.0
PRODID:-//gcpc.org//NONSGML kigkonsult.se iCalcreator 2.30.10//
CALSCALE:GREGORIAN
METHOD:PUBLISH
UID:98410582-2279-4130-a95c-1664ee582ec4
X-WR-CALDESC:Meets during school year.  Many retired women are in this grou
 p.
X-WR-RELCALID:2d2179677b7d39fc5937956bca19ae56
X-WR-TIMEZONE:America/Chicago
BEGIN:VTIMEZONE
TZID:America/Chicago
BEGIN:STANDARD
TZNAME:CST
DTSTART:20241103T020000
TZOFFSETFROM:-0500
TZOFFSETTO:-0600
RDATE:20251102T020000
END:STANDARD
BEGIN:DAYLIGHT
TZNAME:CDT
DTSTART:20250309T020000
TZOFFSETFROM:-0600
TZOFFSETTO:-0500
RDATE:20260308T020000
END:DAYLIGHT
END:VTIMEZONE
BEGIN:VEVENT
UID:d7a3e1cb-335b-4276-a367-905a686ad043
DTSTAMP:20260424T001354Z
DESCRIPTION:Meets during school year.  Many retired women are in this group
 .
DTSTART;TZID=America/Chicago:20250403T130000
DTEND;TZID=America/Chicago:20250403T143000
LOCATION:Room 3
SUMMARY:Naomi Circle
END:VEVENT
END:VCALENDAR
