BEGIN:VCALENDAR
VERSION:2.0
PRODID:-//gcpc.org//NONSGML kigkonsult.se iCalcreator 2.30.10//
CALSCALE:GREGORIAN
METHOD:PUBLISH
UID:138a1782-a284-4ab3-b5f0-5ee9e4f57113
X-WR-CALDESC:Rachel/Ruth Circle is a mixed age group of women that meets 1:
 30-3pm on the fourth Monday of the month during the school year in Room 3 
 at the church.
X-WR-RELCALID:ace56df42dd2893ed98e4d1172128848
X-WR-TIMEZONE:America/Chicago
BEGIN:VTIMEZONE
TZID:America/Chicago
BEGIN:STANDARD
TZNAME:CST
DTSTART:20241103T020000
TZOFFSETFROM:-0500
TZOFFSETTO:-0600
RDATE:20251102T020000
RDATE:20261101T020000
END:STANDARD
BEGIN:DAYLIGHT
TZNAME:CDT
DTSTART:20250309T020000
TZOFFSETFROM:-0600
TZOFFSETTO:-0500
RDATE:20260308T020000
END:DAYLIGHT
END:VTIMEZONE
BEGIN:VEVENT
UID:e8601d53-26a1-47c6-a000-1dcf5ab8c7c4
DTSTAMP:20260423T185738Z
DESCRIPTION:Rachel/Ruth Circle is a mixed age group of women that meets 1:3
 0-3pm on the fourth Monday of the month during the school year in Room 3 a
 t the church.
DTSTART;TZID=America/Chicago:20250728T133000
DTEND;TZID=America/Chicago:20250728T150000
LOCATION:Room 3
SUMMARY:Rachel/Ruth Circle
END:VEVENT
END:VCALENDAR
