BEGIN:VCALENDAR
VERSION:2.0
PRODID:-//gcpc.org//NONSGML kigkonsult.se iCalcreator 2.30.10//
CALSCALE:GREGORIAN
METHOD:PUBLISH
UID:9e31e88a-c101-4c51-bbe6-a94a0c972030
X-WR-CALDESC:Meets during school year.  Many retired women are in this grou
 p.
X-WR-RELCALID:d29725c501573ab24d9017ba3ed34eab
X-WR-TIMEZONE:America/Chicago
BEGIN:VTIMEZONE
TZID:America/Chicago
BEGIN:STANDARD
TZNAME:CST
DTSTART:20251102T020000
TZOFFSETFROM:-0500
TZOFFSETTO:-0600
RDATE:20261101T020000
RDATE:20271107T020000
END:STANDARD
BEGIN:DAYLIGHT
TZNAME:CDT
DTSTART:20260308T020000
TZOFFSETFROM:-0600
TZOFFSETTO:-0500
RDATE:20270314T020000
END:DAYLIGHT
END:VTIMEZONE
BEGIN:VEVENT
UID:a8bbc6c4-f83e-4c40-9da9-c2d648283899
DTSTAMP:20260421T053548Z
DESCRIPTION:Meets during school year.  Many retired women are in this group
 .
DTSTART;TZID=America/Chicago:20260806T130000
DTEND;TZID=America/Chicago:20260806T143000
LOCATION:Room 3
SUMMARY:Naomi Circle
END:VEVENT
END:VCALENDAR
