BEGIN:VCALENDAR
VERSION:2.0
PRODID:-//gcpc.org//NONSGML kigkonsult.se iCalcreator 2.30.10//
CALSCALE:GREGORIAN
METHOD:PUBLISH
UID:e5a7ab81-94cb-4414-be67-c25cef4e543c
X-WR-CALDESC:Rachel/Ruth Circle is a mixed age group of women that meets 1:
 30-3pm on the fourth Monday of the month during the school year in Room 3 
 at the church.
X-WR-RELCALID:8f0388dc17a7a6ce8d51bb9338d12a28
X-WR-TIMEZONE:America/Chicago
BEGIN:VTIMEZONE
TZID:America/Chicago
BEGIN:STANDARD
TZNAME:CST
DTSTART:20261101T020000
TZOFFSETFROM:-0500
TZOFFSETTO:-0600
RDATE:20271107T020000
RDATE:20281105T020000
END:STANDARD
BEGIN:DAYLIGHT
TZNAME:CDT
DTSTART:20270314T020000
TZOFFSETFROM:-0600
TZOFFSETTO:-0500
RDATE:20280312T020000
END:DAYLIGHT
END:VTIMEZONE
BEGIN:VEVENT
UID:c2da230b-92e9-4d02-ab3b-485e863fce30
DTSTAMP:20260424T003309Z
DESCRIPTION:Rachel/Ruth Circle is a mixed age group of women that meets 1:3
 0-3pm on the fourth Monday of the month during the school year in Room 3 a
 t the church.
DTSTART;TZID=America/Chicago:20270726T133000
DTEND;TZID=America/Chicago:20270726T150000
LOCATION:Room 3
SUMMARY:Rachel/Ruth Circle
END:VEVENT
END:VCALENDAR
