BEGIN:VCALENDAR
VERSION:2.0
PRODID:-//gcpc.org//NONSGML kigkonsult.se iCalcreator 2.30.10//
CALSCALE:GREGORIAN
METHOD:PUBLISH
UID:51facc5d-ab08-4c0d-a761-61edf8a293c2
X-WR-CALDESC:Meets during school year.  Many retired women are in this grou
 p.
X-WR-RELCALID:601bd92ba66545374f18862fbd9314db
X-WR-TIMEZONE:America/Chicago
BEGIN:VTIMEZONE
TZID:America/Chicago
BEGIN:STANDARD
TZNAME:CST
DTSTART:20261101T020000
TZOFFSETFROM:-0500
TZOFFSETTO:-0600
RDATE:20271107T020000
RDATE:20281105T020000
END:STANDARD
BEGIN:DAYLIGHT
TZNAME:CDT
DTSTART:20270314T020000
TZOFFSETFROM:-0600
TZOFFSETTO:-0500
RDATE:20280312T020000
RDATE:20290311T020000
END:DAYLIGHT
END:VTIMEZONE
BEGIN:VEVENT
UID:06e10fec-434d-44a2-9a43-544bced4f2ed
DTSTAMP:20260424T055858Z
DESCRIPTION:Meets during school year.  Many retired women are in this group
 .
DTSTART;TZID=America/Chicago:20271007T130000
DTEND;TZID=America/Chicago:20271007T143000
LOCATION:Room 3
SUMMARY:Naomi Circle
END:VEVENT
END:VCALENDAR
