BEGIN:VCALENDAR
VERSION:2.0
PRODID:-//gcpc.org//NONSGML kigkonsult.se iCalcreator 2.30.10//
CALSCALE:GREGORIAN
METHOD:PUBLISH
UID:dfd32d93-88e6-4961-94c0-bb6b0252b50c
X-WR-CALDESC:Rachel/Ruth Circle is a mixed age group of women that meets 1:
 30-3pm on the fourth Monday of the month during the school year in Room 3 
 at the church.
X-WR-RELCALID:525a551c5bcd16a77c4bb68ff7a5e2fb
X-WR-TIMEZONE:America/Chicago
BEGIN:VTIMEZONE
TZID:America/Chicago
BEGIN:STANDARD
TZNAME:CST
DTSTART:20271107T020000
TZOFFSETFROM:-0500
TZOFFSETTO:-0600
RDATE:20281105T020000
RDATE:20291104T020000
END:STANDARD
BEGIN:DAYLIGHT
TZNAME:CDT
DTSTART:20280312T020000
TZOFFSETFROM:-0600
TZOFFSETTO:-0500
RDATE:20290311T020000
END:DAYLIGHT
END:VTIMEZONE
BEGIN:VEVENT
UID:8919d742-77fd-4bf1-821a-3cd0dd2daf8b
DTSTAMP:20260424T190450Z
DESCRIPTION:Rachel/Ruth Circle is a mixed age group of women that meets 1:3
 0-3pm on the fourth Monday of the month during the school year in Room 3 a
 t the church.
DTSTART;TZID=America/Chicago:20280626T133000
DTEND;TZID=America/Chicago:20280626T150000
LOCATION:Room 3
SUMMARY:Rachel/Ruth Circle
END:VEVENT
END:VCALENDAR
