BEGIN:VCALENDAR
VERSION:2.0
PRODID:-//gcpc.org//NONSGML kigkonsult.se iCalcreator 2.30.10//
CALSCALE:GREGORIAN
METHOD:PUBLISH
UID:a61fd8e9-c9bf-41e6-998f-48d78125851b
X-WR-CALDESC:As the Page Turns is a group of women with a passion for readi
 ng a variety of books that meets the 1st Wednesday of the month from 1:30-
 3:00pm ONLINE.  Contact Pat Collins for more information.
X-WR-RELCALID:145276f72827294df7d54d0626665504
X-WR-TIMEZONE:America/Chicago
BEGIN:VTIMEZONE
TZID:America/Chicago
BEGIN:STANDARD
TZNAME:CST
DTSTART:20221106T020000
TZOFFSETFROM:-0500
TZOFFSETTO:-0600
RDATE:20231105T020000
END:STANDARD
BEGIN:DAYLIGHT
TZNAME:CDT
DTSTART:20220313T020000
TZOFFSETFROM:-0600
TZOFFSETTO:-0500
RDATE:20230312T020000
RDATE:20240310T020000
END:DAYLIGHT
END:VTIMEZONE
BEGIN:VEVENT
UID:2ec84a54-7ff1-4bfe-8871-d2a65c83bd22
DTSTAMP:20260425T152600Z
DESCRIPTION:As the Page Turns is a group of women with a passion for readin
 g a variety of books that meets the 1st Wednesday of the month from 1:30-3
 :00pm ONLINE.  Contact Pat Collins for more information.
DTSTART;TZID=America/Chicago:20230301T133000
DTEND;TZID=America/Chicago:20230301T150000
LOCATION:Room 3
SUMMARY:As the Page Turns
END:VEVENT
END:VCALENDAR
