BEGIN:VCALENDAR
VERSION:2.0
PRODID:-//gcpc.org//NONSGML kigkonsult.se iCalcreator 2.30.10//
CALSCALE:GREGORIAN
METHOD:PUBLISH
UID:25bf7509-bc11-45fb-bb26-af7ee1582767
X-WR-CALDESC:Page Turners is nineteen years and counting. This group of wom
 en has a long-term passion for reading\, having lively book discussions\, 
 and fellowship. They meet the 1st Thursday of the month at 7pm n the homes
  of members. Contact Marcia Turner or Regie Lorimer for more information.
X-WR-RELCALID:55f74efadb64c795a32900ddbeffc66f
X-WR-TIMEZONE:America/Chicago
BEGIN:VTIMEZONE
TZID:America/Chicago
BEGIN:STANDARD
TZNAME:CST
DTSTART:20221106T020000
TZOFFSETFROM:-0500
TZOFFSETTO:-0600
RDATE:20231105T020000
END:STANDARD
BEGIN:DAYLIGHT
TZNAME:CDT
DTSTART:20230312T020000
TZOFFSETFROM:-0600
TZOFFSETTO:-0500
RDATE:20240310T020000
END:DAYLIGHT
END:VTIMEZONE
BEGIN:VEVENT
UID:eb1877f9-cde6-4513-874a-65fa22ddc1be
DTSTAMP:20260425T123736Z
DESCRIPTION:Page Turners is nineteen years and counting. This group of wome
 n has a long-term passion for reading\, having lively book discussions\, a
 nd fellowship. They meet the 1st Thursday of the month at 7pm n the homes 
 of members. Contact Marcia Turner or Regie Lorimer for more information.
DTSTART;TZID=America/Chicago:20230413T190000
DTEND;TZID=America/Chicago:20230413T203000
LOCATION:At the homes of members
SUMMARY:Page Turners
END:VEVENT
END:VCALENDAR
