BEGIN:VCALENDAR
VERSION:2.0
PRODID:-//gcpc.org//NONSGML kigkonsult.se iCalcreator 2.30.10//
CALSCALE:GREGORIAN
METHOD:PUBLISH
UID:f5a6c62c-e2ee-4b72-94cc-cabc65f09b1c
X-WR-CALDESC:Page Turners is 31 years and counting. This group of women has
  a long-term passion for reading\, having lively book discussions\, and fe
 llowship. They meet the 1st Thursday of the month at 7pm n the homes of me
 mbers. Contact Marcia Turner for more information.
X-WR-RELCALID:691a7eaa9d34e6b3b7855cdfdb0b9d35
X-WR-TIMEZONE:America/Chicago
BEGIN:VTIMEZONE
TZID:America/Chicago
BEGIN:STANDARD
TZNAME:CST
DTSTART:20231105T020000
TZOFFSETFROM:-0500
TZOFFSETTO:-0600
RDATE:20241103T020000
END:STANDARD
BEGIN:DAYLIGHT
TZNAME:CDT
DTSTART:20230312T020000
TZOFFSETFROM:-0600
TZOFFSETTO:-0500
RDATE:20240310T020000
RDATE:20250309T020000
END:DAYLIGHT
END:VTIMEZONE
BEGIN:VEVENT
UID:60ff30f6-035e-4f12-bd23-2994c3303433
DTSTAMP:20260424T222813Z
DESCRIPTION:Page Turners is 31 years and counting. This group of women has 
 a long-term passion for reading\, having lively book discussions\, and fel
 lowship. They meet the 1st Thursday of the month at 7pm n the homes of mem
 bers. Contact Marcia Turner for more information.
DTSTART;TZID=America/Chicago:20240104T190000
DTEND;TZID=America/Chicago:20240104T203000
LOCATION:At the homes of members
SUMMARY:Page Turners
END:VEVENT
END:VCALENDAR
