BEGIN:VCALENDAR
VERSION:2.0
PRODID:-//gcpc.org//NONSGML kigkonsult.se iCalcreator 2.30.10//
CALSCALE:GREGORIAN
METHOD:PUBLISH
UID:cd84d31a-ec12-4c3a-baf3-6226014208a3
X-WR-CALDESC:Page Turners is 31 years and counting. This group of women has
  a long-term passion for reading\, having lively book discussions\, and fe
 llowship. They meet the 1st Thursday of the month at 7pm n the homes of me
 mbers. Contact Marcia Turner for more information.
X-WR-RELCALID:db2f104415dad015b850c581d0b05ec8
X-WR-TIMEZONE:America/Chicago
BEGIN:VTIMEZONE
TZID:America/Chicago
BEGIN:STANDARD
TZNAME:CST
DTSTART:20231105T020000
TZOFFSETFROM:-0500
TZOFFSETTO:-0600
RDATE:20241103T020000
END:STANDARD
BEGIN:DAYLIGHT
TZNAME:CDT
DTSTART:20230312T020000
TZOFFSETFROM:-0600
TZOFFSETTO:-0500
RDATE:20240310T020000
RDATE:20250309T020000
END:DAYLIGHT
END:VTIMEZONE
BEGIN:VEVENT
UID:bf88306c-cbee-4321-8905-6d8973fa3a39
DTSTAMP:20260424T192506Z
DESCRIPTION:Page Turners is 31 years and counting. This group of women has 
 a long-term passion for reading\, having lively book discussions\, and fel
 lowship. They meet the 1st Thursday of the month at 7pm n the homes of mem
 bers. Contact Marcia Turner for more information.
DTSTART;TZID=America/Chicago:20240201T190000
DTEND;TZID=America/Chicago:20240201T203000
LOCATION:At the homes of members
SUMMARY:Page Turners
END:VEVENT
END:VCALENDAR
