BEGIN:VCALENDAR
VERSION:2.0
PRODID:-//gcpc.org//NONSGML kigkonsult.se iCalcreator 2.30.10//
CALSCALE:GREGORIAN
METHOD:PUBLISH
UID:6461a15b-cd64-4296-bee0-00b506d35188
X-WR-CALDESC:As the Page Turns is a group of women with a passion for readi
 ng a variety of books that meets the 1st Wednesday of the month from 1:30-
 3:00pm ONLINE.  Contact Pat Collins for more information.
X-WR-RELCALID:2fe9bc0f9ea0da20a05196c4af11b01d
X-WR-TIMEZONE:America/Chicago
BEGIN:VTIMEZONE
TZID:America/Chicago
BEGIN:STANDARD
TZNAME:CST
DTSTART:20231105T020000
TZOFFSETFROM:-0500
TZOFFSETTO:-0600
RDATE:20241103T020000
END:STANDARD
BEGIN:DAYLIGHT
TZNAME:CDT
DTSTART:20240310T020000
TZOFFSETFROM:-0600
TZOFFSETTO:-0500
RDATE:20250309T020000
END:DAYLIGHT
END:VTIMEZONE
BEGIN:VEVENT
UID:302b79eb-15d8-4c6a-bb9a-3252cb578b21
DTSTAMP:20260424T143505Z
DESCRIPTION:As the Page Turns is a group of women with a passion for readin
 g a variety of books that meets the 1st Wednesday of the month from 1:30-3
 :00pm ONLINE.  Contact Pat Collins for more information.
DTSTART;TZID=America/Chicago:20240501T133000
DTEND;TZID=America/Chicago:20240501T150000
LOCATION:Room 3
SUMMARY:As the Page Turns
END:VEVENT
END:VCALENDAR
