BEGIN:VCALENDAR
VERSION:2.0
PRODID:-//gcpc.org//NONSGML kigkonsult.se iCalcreator 2.30.10//
CALSCALE:GREGORIAN
METHOD:PUBLISH
UID:946e419c-72ac-46e0-8684-63f1d8e4eab7
X-WR-CALDESC:Page Turners is 31 years and counting. This group of women has
  a long-term passion for reading\, having lively book discussions\, and fe
 llowship. They meet the 1st Thursday of the month at 7pm n the homes of me
 mbers. Contact Marcia Turner for more information.
X-WR-RELCALID:03be3ae74e79f9301515cb7d17d7547e
X-WR-TIMEZONE:America/Chicago
BEGIN:VTIMEZONE
TZID:America/Chicago
BEGIN:STANDARD
TZNAME:CST
DTSTART:20231105T020000
TZOFFSETFROM:-0500
TZOFFSETTO:-0600
RDATE:20241103T020000
RDATE:20251102T020000
END:STANDARD
BEGIN:DAYLIGHT
TZNAME:CDT
DTSTART:20240310T020000
TZOFFSETFROM:-0600
TZOFFSETTO:-0500
RDATE:20250309T020000
RDATE:20260308T020000
END:DAYLIGHT
END:VTIMEZONE
BEGIN:VEVENT
UID:ce021676-6ab5-414c-9264-7e77b340470f
DTSTAMP:20260424T054239Z
DESCRIPTION:Page Turners is 31 years and counting. This group of women has 
 a long-term passion for reading\, having lively book discussions\, and fel
 lowship. They meet the 1st Thursday of the month at 7pm n the homes of mem
 bers. Contact Marcia Turner for more information.
DTSTART;TZID=America/Chicago:20241003T190000
DTEND;TZID=America/Chicago:20241003T203000
LOCATION:At the homes of members
SUMMARY:Page Turners
END:VEVENT
END:VCALENDAR
