BEGIN:VCALENDAR
VERSION:2.0
PRODID:-//gcpc.org//NONSGML kigkonsult.se iCalcreator 2.30.10//
CALSCALE:GREGORIAN
METHOD:PUBLISH
UID:8ee60146-785b-4698-9bd5-097c7a962c0f
X-WR-CALDESC:Page Turners is 31 years and counting. This group of women has
  a long-term passion for reading\, having lively book discussions\, and fe
 llowship. They meet the 1st Thursday of the month at 7pm n the homes of me
 mbers. Contact Marcia Turner for more information.
X-WR-RELCALID:829d2638c0f35c6df11a0397c1b74bf5
X-WR-TIMEZONE:America/Chicago
BEGIN:VTIMEZONE
TZID:America/Chicago
BEGIN:STANDARD
TZNAME:CST
DTSTART:20251102T020000
TZOFFSETFROM:-0500
TZOFFSETTO:-0600
RDATE:20261101T020000
END:STANDARD
BEGIN:DAYLIGHT
TZNAME:CDT
DTSTART:20250309T020000
TZOFFSETFROM:-0600
TZOFFSETTO:-0500
RDATE:20260308T020000
RDATE:20270314T020000
END:DAYLIGHT
END:VTIMEZONE
BEGIN:VEVENT
UID:dabe7a22-7d00-4e09-bfea-84a9bb5a1e4d
DTSTAMP:20260420T211050Z
DESCRIPTION:Page Turners is 31 years and counting. This group of women has 
 a long-term passion for reading\, having lively book discussions\, and fel
 lowship. They meet the 1st Thursday of the month at 7pm n the homes of mem
 bers. Contact Marcia Turner for more information.
DTSTART;TZID=America/Chicago:20260305T190000
DTEND;TZID=America/Chicago:20260305T203000
LOCATION:At the homes of members
SUMMARY:Page Turners
END:VEVENT
END:VCALENDAR
