BEGIN:VCALENDAR
VERSION:2.0
PRODID:-//gcpc.org//NONSGML kigkonsult.se iCalcreator 2.30.10//
CALSCALE:GREGORIAN
METHOD:PUBLISH
UID:ee802581-4f52-42c4-90c8-5485642dfaf4
X-WR-CALDESC:Thursday Bible Study - Meet on the 2nd & 4th Thursdays from 9:
 30–11am in Room 5. Prayer\, Bible study\, discussion. Contact Cheryl Johns
 on or Lee Mattix for more information.
X-WR-RELCALID:175db0a87f1a0bb889985ced70b9dc3b
X-WR-TIMEZONE:America/Chicago
BEGIN:VTIMEZONE
TZID:America/Chicago
BEGIN:STANDARD
TZNAME:CST
DTSTART:20261101T020000
TZOFFSETFROM:-0500
TZOFFSETTO:-0600
RDATE:20271107T020000
END:STANDARD
BEGIN:DAYLIGHT
TZNAME:CDT
DTSTART:20260308T020000
TZOFFSETFROM:-0600
TZOFFSETTO:-0500
RDATE:20270314T020000
RDATE:20280312T020000
END:DAYLIGHT
END:VTIMEZONE
BEGIN:VEVENT
UID:b7764f5a-60e4-49cb-a1f5-a1773b50ec46
DTSTAMP:20260421T111421Z
DESCRIPTION:Thursday Bible Study - Meet on the 2nd & 4th Thursdays from 9:3
 0–11am in Room 5. Prayer\, Bible study\, discussion. Contact Cheryl Johnso
 n or Lee Mattix for more information.
DTSTART;TZID=America/Chicago:20270114T093000
DTEND;TZID=America/Chicago:20270114T110000
LOCATION:Room 5
SUMMARY:Thursday Bible Study
END:VEVENT
END:VCALENDAR
