BEGIN:VCALENDAR
VERSION:2.0
PRODID:-//gcpc.org//NONSGML kigkonsult.se iCalcreator 2.30.10//
CALSCALE:GREGORIAN
METHOD:PUBLISH
UID:a58bdd1e-5c5d-43c7-846a-8db337f8c3a2
X-WR-CALDESC:Page Turners is 31 years and counting. This group of women has
  a long-term passion for reading\, having lively book discussions\, and fe
 llowship. They meet the 1st Thursday of the month at 7pm n the homes of me
 mbers. Contact Marcia Turner for more information.
X-WR-RELCALID:5dcb94ea04f2779f5fd7f6d1be45dc47
X-WR-TIMEZONE:America/Chicago
BEGIN:VTIMEZONE
TZID:America/Chicago
BEGIN:STANDARD
TZNAME:CST
DTSTART:20271107T020000
TZOFFSETFROM:-0500
TZOFFSETTO:-0600
RDATE:20281105T020000
END:STANDARD
BEGIN:DAYLIGHT
TZNAME:CDT
DTSTART:20270314T020000
TZOFFSETFROM:-0600
TZOFFSETTO:-0500
RDATE:20280312T020000
RDATE:20290311T020000
END:DAYLIGHT
END:VTIMEZONE
BEGIN:VEVENT
UID:1e7d730b-3297-42a0-aa9a-9e5a4843248c
DTSTAMP:20260423T192424Z
DESCRIPTION:Page Turners is 31 years and counting. This group of women has 
 a long-term passion for reading\, having lively book discussions\, and fel
 lowship. They meet the 1st Thursday of the month at 7pm n the homes of mem
 bers. Contact Marcia Turner for more information.
DTSTART;TZID=America/Chicago:20271202T190000
DTEND;TZID=America/Chicago:20271202T203000
LOCATION:At the homes of members
SUMMARY:Page Turners
END:VEVENT
END:VCALENDAR
