BEGIN:VCALENDAR
VERSION:2.0
PRODID:-//gcpc.org//NONSGML kigkonsult.se iCalcreator 2.30.10//
CALSCALE:GREGORIAN
METHOD:PUBLISH
UID:4f556b3c-0b3f-44b1-bb13-dc1fd0df3a2b
X-WR-CALDESC:As the Page Turns is a group of women with a passion for readi
 ng a variety of books that meets the 1st Wednesday of the month from 1:30-
 3:00pm in Room 5.  Contact Kathy Williams for more information.
X-WR-RELCALID:4ee5e06d24460e569574a09699df6544
X-WR-TIMEZONE:America/Chicago
BEGIN:VTIMEZONE
TZID:America/Chicago
BEGIN:STANDARD
TZNAME:CST
DTSTART:20271107T020000
TZOFFSETFROM:-0500
TZOFFSETTO:-0600
RDATE:20281105T020000
END:STANDARD
BEGIN:DAYLIGHT
TZNAME:CDT
DTSTART:20280312T020000
TZOFFSETFROM:-0600
TZOFFSETTO:-0500
RDATE:20290311T020000
END:DAYLIGHT
END:VTIMEZONE
BEGIN:VEVENT
UID:33fa6033-70c4-4b76-991c-32c1b52886a8
DTSTAMP:20260424T040258Z
DESCRIPTION:As the Page Turns is a group of women with a passion for readin
 g a variety of books that meets the 1st Wednesday of the month from 1:30-3
 :00pm in Room 5.  Contact Kathy Williams for more information.
DTSTART;TZID=America/Chicago:20280503T133000
DTEND;TZID=America/Chicago:20280503T150000
LOCATION:Room 3
SUMMARY:As the Page Turns
END:VEVENT
END:VCALENDAR
