BEGIN:VCALENDAR
VERSION:2.0
PRODID:-//gcpc.org//NONSGML kigkonsult.se iCalcreator 2.30.10//
CALSCALE:GREGORIAN
METHOD:PUBLISH
UID:36d5bbde-1aa4-4af3-b993-5662b530d581
X-WR-CALDESC:As the Page Turns is a group of women with a passion for readi
 ng a variety of books that meets the 1st Wednesday of the month from 1:30-
 3:00pm in Room 5.  Contact Kathy Williams for more information.
X-WR-RELCALID:ae4175ca06b283c2e886e79d7ab5b4f2
X-WR-TIMEZONE:America/Chicago
BEGIN:VTIMEZONE
TZID:America/Chicago
BEGIN:STANDARD
TZNAME:CST
DTSTART:20271107T020000
TZOFFSETFROM:-0500
TZOFFSETTO:-0600
RDATE:20281105T020000
RDATE:20291104T020000
END:STANDARD
BEGIN:DAYLIGHT
TZNAME:CDT
DTSTART:20280312T020000
TZOFFSETFROM:-0600
TZOFFSETTO:-0500
RDATE:20290311T020000
END:DAYLIGHT
END:VTIMEZONE
BEGIN:VEVENT
UID:d2c541c2-18d8-4962-a8cb-1e888e260aea
DTSTAMP:20260424T110013Z
DESCRIPTION:As the Page Turns is a group of women with a passion for readin
 g a variety of books that meets the 1st Wednesday of the month from 1:30-3
 :00pm in Room 5.  Contact Kathy Williams for more information.
DTSTART;TZID=America/Chicago:20280906T133000
DTEND;TZID=America/Chicago:20280906T150000
LOCATION:Room 3
SUMMARY:As the Page Turns
END:VEVENT
END:VCALENDAR
